BEGIN:VCALENDAR
VERSION:2.0
PRODID:-//Faith Community Academy - ECPv6.15.20//NONSGML v1.0//EN
CALSCALE:GREGORIAN
METHOD:PUBLISH
X-ORIGINAL-URL:https://faithcommunityacademy.org
X-WR-CALDESC:Events for Faith Community Academy
REFRESH-INTERVAL;VALUE=DURATION:PT1H
X-Robots-Tag:noindex
X-PUBLISHED-TTL:PT1H
BEGIN:VTIMEZONE
TZID:UTC
BEGIN:STANDARD
TZOFFSETFROM:+0000
TZOFFSETTO:+0000
TZNAME:UTC
DTSTART:20240101T000000
END:STANDARD
END:VTIMEZONE
BEGIN:VEVENT
DTSTART;TZID=UTC:20250820T080000
DTEND;TZID=UTC:20250820T170000
DTSTAMP:20260422T115428
CREATED:20250219T025356Z
LAST-MODIFIED:20250219T025356Z
UID:974-1755676800-1755709200@faithcommunityacademy.org
SUMMARY:First Day of School
DESCRIPTION:
URL:https://faithcommunityacademy.org/event/first-day-of-school-2/
LOCATION:Campus\, 15421 Pouncey Tract Rd\, Rockville\, 23146\, United States
CATEGORIES:Elementary
ORGANIZER;CN="FCAE":MAILTO:testing@me.com
END:VEVENT
END:VCALENDAR