BEGIN:VCALENDAR
VERSION:2.0
PRODID:-//Faith Community Academy - ECPv6.15.20//NONSGML v1.0//EN
CALSCALE:GREGORIAN
METHOD:PUBLISH
X-WR-CALNAME:Faith Community Academy
X-ORIGINAL-URL:https://faithcommunityacademy.org
X-WR-CALDESC:Events for Faith Community Academy
REFRESH-INTERVAL;VALUE=DURATION:PT1H
X-Robots-Tag:noindex
X-PUBLISHED-TTL:PT1H
BEGIN:VTIMEZONE
TZID:UTC
BEGIN:STANDARD
TZOFFSETFROM:+0000
TZOFFSETTO:+0000
TZNAME:UTC
DTSTART:20240101T000000
END:STANDARD
END:VTIMEZONE
BEGIN:VEVENT
DTSTART;VALUE=DATE:20251001
DTEND;VALUE=DATE:20251101
DTSTAMP:20260422T085834
CREATED:20250131T010658Z
LAST-MODIFIED:20250131T010658Z
UID:813-1759276800-1761955199@faithcommunityacademy.org
SUMMARY:Fireman Visit
DESCRIPTION:
URL:https://faithcommunityacademy.org/event/fireman-visit/
LOCATION:Campus\, 15421 Pouncey Tract Rd\, Rockville\, 23146\, United States
END:VEVENT
BEGIN:VEVENT
DTSTART;TZID=UTC:20251024T080000
DTEND;TZID=UTC:20251024T170000
DTSTAMP:20260422T085834
CREATED:20250221T024517Z
LAST-MODIFIED:20250221T024517Z
UID:982-1761292800-1761325200@faithcommunityacademy.org
SUMMARY:Early Dismissal 1:15 - End of 1st Quarter (Staff Clerical)
DESCRIPTION:
URL:https://faithcommunityacademy.org/event/early-dismissal-115-end-of-1st-quarter-staff-clerical/
LOCATION:Campus\, 15421 Pouncey Tract Rd\, Rockville\, 23146\, United States
CATEGORIES:Elementary
ORGANIZER;CN="FCAE":MAILTO:testing@me.com
END:VEVENT
END:VCALENDAR